Package: BulkSignalR Version: 0.99.22 Command: rm -rf BulkSignalR.buildbin-libdir && mkdir BulkSignalR.buildbin-libdir && /Users/biocbuild/BBS/utils/build-universal.sh BulkSignalR_0.99.22.tar.gz /Library/Frameworks/R.framework/Resources/bin/R BulkSignalR.buildbin-libdir StartedAt: 2025-02-09 22:08:01 -0500 (Sun, 09 Feb 2025) EndedAt: 2025-02-09 22:08:24 -0500 (Sun, 09 Feb 2025) EllapsedTime: 22.4 seconds RetCode: 0 Status: OK PackageFile: BulkSignalR_0.99.22.tgz PackageFileSize: 4.005 MiB