Package: BulkSignalR Version: 0.99.22 Command: /Library/Frameworks/R.framework/Resources/bin/R CMD build --keep-empty-dirs --no-resave-data BulkSignalR StartedAt: 2025-02-09 15:45:21 -0500 (Sun, 09 Feb 2025) EndedAt: 2025-02-09 15:46:49 -0500 (Sun, 09 Feb 2025) EllapsedTime: 87.9 seconds RetCode: 0 Status: OK PackageFile: BulkSignalR_0.99.22.tar.gz PackageFileSize: 3.061 MiB