Package: BulkSignalR Version: 0.99.22 Command: /home/biocbuild/R/R/bin/R CMD INSTALL BulkSignalR StartedAt: 2025-01-29 20:34:46 -0000 (Wed, 29 Jan 2025) EndedAt: 2025-01-29 20:35:54 -0000 (Wed, 29 Jan 2025) EllapsedTime: 68.0 seconds RetCode: 0 Status: OK