Package: BulkSignalR Version: 0.99.22 Command: rm -rf BulkSignalR.buildbin-libdir && mkdir BulkSignalR.buildbin-libdir && /Users/biocbuild/BBS/utils/build-universal.sh BulkSignalR_0.99.22.tar.gz /Library/Frameworks/R.framework/Resources/bin/R BulkSignalR.buildbin-libdir StartedAt: 2025-02-10 00:44:49 -0500 (Mon, 10 Feb 2025) EndedAt: 2025-02-10 00:45:59 -0500 (Mon, 10 Feb 2025) EllapsedTime: 70.2 seconds RetCode: 0 Status: OK PackageFile: BulkSignalR_0.99.22.tgz PackageFileSize: 3.997 MiB