Package: BulkSignalR Version: 0.99.22 Command: /Library/Frameworks/R.framework/Resources/bin/R CMD check --install=check:BulkSignalR.install-out.txt --library=/Library/Frameworks/R.framework/Resources/library --no-vignettes --timings BulkSignalR_0.99.22.tar.gz StartedAt: 2025-02-09 19:30:59 -0500 (Sun, 09 Feb 2025) EndedAt: 2025-02-09 19:39:14 -0500 (Sun, 09 Feb 2025) EllapsedTime: 494.4 seconds RetCode: 0 Status: OK CheckDir: BulkSignalR.Rcheck Warnings: 0