Package: BulkSignalR Version: 0.99.22 Command: /home/biocbuild/bbs-3.21-bioc/R/bin/R CMD check --install=check:BulkSignalR.install-out.txt --library=/home/biocbuild/bbs-3.21-bioc/R/site-library --timings BulkSignalR_0.99.22.tar.gz StartedAt: 2025-02-04 20:32:50 -0500 (Tue, 04 Feb 2025) EndedAt: 2025-02-04 20:42:57 -0500 (Tue, 04 Feb 2025) EllapsedTime: 606.7 seconds RetCode: 0 Status: OK CheckDir: BulkSignalR.Rcheck Warnings: 0