Package: BulkSignalR Version: 0.99.22 Command: /home/biocbuild/bbs-3.21-bioc/R/bin/R CMD INSTALL BulkSignalR StartedAt: 2025-02-04 15:55:42 -0500 (Tue, 04 Feb 2025) EndedAt: 2025-02-04 15:56:30 -0500 (Tue, 04 Feb 2025) EllapsedTime: 48.7 seconds RetCode: 0 Status: OK