Package: BulkSignalR Version: 0.99.22 Command: rm -rf BulkSignalR.buildbin-libdir && mkdir BulkSignalR.buildbin-libdir && E:\biocbuild\bbs-3.21-bioc\R\bin\R.exe CMD INSTALL --build --library=BulkSignalR.buildbin-libdir BulkSignalR_0.99.22.tar.gz StartedAt: 2025-02-10 07:21:33 -0500 (Mon, 10 Feb 2025) EndedAt: 2025-02-10 07:26:55 -0500 (Mon, 10 Feb 2025) EllapsedTime: 322.3 seconds RetCode: 0 Status: OK PackageFile: BulkSignalR_0.99.22.zip PackageFileSize: 3.619 MiB