Package: BulkSignalR Version: 0.99.22 Command: E:\biocbuild\bbs-3.21-bioc\R\bin\R.exe CMD check --no-multiarch --install=check:BulkSignalR.install-out.txt --library=E:\biocbuild\bbs-3.21-bioc\R\library --no-vignettes --timings BulkSignalR_0.99.22.tar.gz StartedAt: 2025-02-03 23:45:20 -0500 (Mon, 03 Feb 2025) EndedAt: 2025-02-03 23:53:46 -0500 (Mon, 03 Feb 2025) EllapsedTime: 505.9 seconds RetCode: 0 Status: OK CheckDir: BulkSignalR.Rcheck Warnings: 0