Package: BulkSignalR Version: 0.99.22 Command: E:\biocbuild\bbs-3.21-bioc\R\bin\R.exe CMD INSTALL BulkSignalR StartedAt: 2025-02-09 16:33:53 -0500 (Sun, 09 Feb 2025) EndedAt: 2025-02-09 16:36:44 -0500 (Sun, 09 Feb 2025) EllapsedTime: 171.2 seconds RetCode: 0 Status: OK