Package: BumpyMatrix Version: 1.15.0 Command: /Library/Frameworks/R.framework/Resources/bin/R CMD INSTALL BumpyMatrix StartedAt: 2025-02-09 15:02:43 -0500 (Sun, 09 Feb 2025) EndedAt: 2025-02-09 15:02:49 -0500 (Sun, 09 Feb 2025) EllapsedTime: 5.1 seconds RetCode: 0 Status: OK