Package: BumpyMatrix Version: 1.15.0 Command: /home/biocbuild/R/R/bin/R CMD INSTALL BumpyMatrix StartedAt: 2025-01-29 19:34:42 -0000 (Wed, 29 Jan 2025) EndedAt: 2025-01-29 19:35:05 -0000 (Wed, 29 Jan 2025) EllapsedTime: 23.5 seconds RetCode: 0 Status: OK