Package: BumpyMatrix Version: 1.15.0 Command: rm -rf BumpyMatrix.buildbin-libdir && mkdir BumpyMatrix.buildbin-libdir && E:\biocbuild\bbs-3.21-bioc\R\bin\R.exe CMD INSTALL --build --library=BumpyMatrix.buildbin-libdir BumpyMatrix_1.15.0.tar.gz StartedAt: 2025-02-13 07:32:48 -0500 (Thu, 13 Feb 2025) EndedAt: 2025-02-13 07:33:53 -0500 (Thu, 13 Feb 2025) EllapsedTime: 64.8 seconds RetCode: 0 Status: OK PackageFile: BumpyMatrix_1.15.0.zip PackageFileSize: 1.033 MiB