Package: BumpyMatrix Version: 1.15.0 Command: E:\biocbuild\bbs-3.21-bioc\R\bin\R.exe CMD check --no-multiarch --install=check:BumpyMatrix.install-out.txt --library=E:\biocbuild\bbs-3.21-bioc\R\library --no-vignettes --timings BumpyMatrix_1.15.0.tar.gz StartedAt: 2025-02-09 23:16:46 -0500 (Sun, 09 Feb 2025) EndedAt: 2025-02-09 23:18:54 -0500 (Sun, 09 Feb 2025) EllapsedTime: 127.9 seconds RetCode: 0 Status: OK CheckDir: BumpyMatrix.Rcheck Warnings: 0