Package: CAFE Version: 1.43.0 Command: /Library/Frameworks/R.framework/Resources/bin/R CMD check --install=check:CAFE.install-out.txt --library=/Library/Frameworks/R.framework/Resources/library --no-vignettes --timings CAFE_1.43.0.tar.gz StartedAt: 2025-02-09 18:22:49 -0500 (Sun, 09 Feb 2025) EndedAt: 2025-02-09 18:25:11 -0500 (Sun, 09 Feb 2025) EllapsedTime: 141.7 seconds RetCode: 0 Status: WARNINGS CheckDir: CAFE.Rcheck Warnings: 1