Package: CAFE Version: 1.43.0 Command: /Library/Frameworks/R.framework/Resources/bin/R CMD INSTALL CAFE StartedAt: 2025-02-09 15:17:00 -0500 (Sun, 09 Feb 2025) EndedAt: 2025-02-09 15:17:23 -0500 (Sun, 09 Feb 2025) EllapsedTime: 22.9 seconds RetCode: 0 Status: OK