Package: CAFE Version: 1.43.0 Command: /home/biocbuild/R/R/bin/R CMD build --keep-empty-dirs --no-resave-data CAFE StartedAt: 2025-01-28 21:31:05 -0000 (Tue, 28 Jan 2025) EndedAt: 2025-01-28 21:33:00 -0000 (Tue, 28 Jan 2025) EllapsedTime: 115.0 seconds RetCode: 0 Status: OK PackageFile: CAFE_1.43.0.tar.gz PackageFileSize: 4.625 MiB