Package: CAFE Version: 1.43.0 Command: rm -rf CAFE.buildbin-libdir && mkdir CAFE.buildbin-libdir && /Users/biocbuild/BBS/utils/build-universal.sh CAFE_1.43.0.tar.gz /Library/Frameworks/R.framework/Resources/bin/R CAFE.buildbin-libdir StartedAt: 2025-02-10 00:44:56 -0500 (Mon, 10 Feb 2025) EndedAt: 2025-02-10 00:46:16 -0500 (Mon, 10 Feb 2025) EllapsedTime: 80.7 seconds RetCode: 0 Status: OK PackageFile: CAFE_1.43.0.tgz PackageFileSize: 4.687 MiB