Package: CAFE Version: 1.43.0 Command: /Library/Frameworks/R.framework/Resources/bin/R CMD INSTALL CAFE StartedAt: 2025-02-03 15:33:02 -0500 (Mon, 03 Feb 2025) EndedAt: 2025-02-03 15:34:15 -0500 (Mon, 03 Feb 2025) EllapsedTime: 73.3 seconds RetCode: 0 Status: OK