Package: CAFE Version: 1.43.0 Command: /home/biocbuild/bbs-3.21-bioc/R/bin/R CMD build --keep-empty-dirs --no-resave-data CAFE StartedAt: 2025-02-09 16:30:06 -0500 (Sun, 09 Feb 2025) EndedAt: 2025-02-09 16:31:34 -0500 (Sun, 09 Feb 2025) EllapsedTime: 88.1 seconds RetCode: 0 Status: OK PackageFile: CAFE_1.43.0.tar.gz PackageFileSize: 4.629 MiB