Package: CAFE Version: 1.43.0 Command: /home/biocbuild/bbs-3.21-bioc/R/bin/R CMD check --install=check:CAFE.install-out.txt --library=/home/biocbuild/bbs-3.21-bioc/R/site-library --timings CAFE_1.43.0.tar.gz StartedAt: 2025-02-09 20:37:17 -0500 (Sun, 09 Feb 2025) EndedAt: 2025-02-09 20:43:53 -0500 (Sun, 09 Feb 2025) EllapsedTime: 396.4 seconds RetCode: 0 Status: WARNINGS CheckDir: CAFE.Rcheck Warnings: 1