Package: CAFE Version: 1.43.0 Command: /home/biocbuild/bbs-3.21-bioc/R/bin/R CMD INSTALL CAFE StartedAt: 2025-02-03 15:57:15 -0500 (Mon, 03 Feb 2025) EndedAt: 2025-02-03 15:58:10 -0500 (Mon, 03 Feb 2025) EllapsedTime: 54.5 seconds RetCode: 0 Status: OK