Package: CAFE Version: 1.43.0 Command: chmod a+r CAFE -R && E:\biocbuild\bbs-3.21-bioc\R\bin\R.exe CMD build --keep-empty-dirs --no-resave-data CAFE StartedAt: 2025-02-09 17:37:48 -0500 (Sun, 09 Feb 2025) EndedAt: 2025-02-09 17:39:44 -0500 (Sun, 09 Feb 2025) EllapsedTime: 115.5 seconds RetCode: 0 Status: OK PackageFile: CAFE_1.43.0.tar.gz PackageFileSize: 4.632 MiB