Package: CAFE Version: 1.43.0 Command: E:\biocbuild\bbs-3.21-bioc\R\bin\R.exe CMD check --no-multiarch --install=check:CAFE.install-out.txt --library=E:\biocbuild\bbs-3.21-bioc\R\library --no-vignettes --timings CAFE_1.43.0.tar.gz StartedAt: 2025-02-09 23:18:55 -0500 (Sun, 09 Feb 2025) EndedAt: 2025-02-09 23:25:50 -0500 (Sun, 09 Feb 2025) EllapsedTime: 414.8 seconds RetCode: 0 Status: WARNINGS CheckDir: CAFE.Rcheck Warnings: 1