Package: CAFE Version: 1.43.0 Command: E:\biocbuild\bbs-3.21-bioc\R\bin\R.exe CMD INSTALL CAFE StartedAt: 2025-02-03 16:56:12 -0500 (Mon, 03 Feb 2025) EndedAt: 2025-02-03 16:57:16 -0500 (Mon, 03 Feb 2025) EllapsedTime: 64.7 seconds RetCode: 0 Status: OK