Package: CAGEfightR Version: 1.27.0 Maintainer: Malte Thodberg MaintainerEmail: maltethodberg at gmail.com git_url: https://git.bioconductor.org/packages/CAGEfightR git_branch: devel git_last_commit: 5e8f35b git_last_commit_date: 2024-10-29 10:28:27 -0500 (Tue, 29 Oct 2024)