Package: CAGEfightR Version: 1.27.0 Command: rm -rf CAGEfightR.buildbin-libdir && mkdir CAGEfightR.buildbin-libdir && /Users/biocbuild/BBS/utils/build-universal.sh CAGEfightR_1.27.0.tar.gz /Library/Frameworks/R.framework/Resources/bin/R CAGEfightR.buildbin-libdir StartedAt: 2025-02-09 22:08:14 -0500 (Sun, 09 Feb 2025) EndedAt: 2025-02-09 22:08:36 -0500 (Sun, 09 Feb 2025) EllapsedTime: 22.4 seconds RetCode: 0 Status: OK PackageFile: CAGEfightR_1.27.0.tgz PackageFileSize: 2.628 MiB