Package: CAGEfightR Version: 1.27.0 Command: /Library/Frameworks/R.framework/Resources/bin/R CMD build --keep-empty-dirs --no-resave-data CAGEfightR StartedAt: 2025-02-09 15:46:22 -0500 (Sun, 09 Feb 2025) EndedAt: 2025-02-09 15:47:34 -0500 (Sun, 09 Feb 2025) EllapsedTime: 71.7 seconds RetCode: 0 Status: OK PackageFile: CAGEfightR_1.27.0.tar.gz PackageFileSize: 1.704 MiB