Package: CAGEfightR Version: 1.27.0 Command: /Library/Frameworks/R.framework/Resources/bin/R CMD check --install=check:CAGEfightR.install-out.txt --library=/Library/Frameworks/R.framework/Resources/library --no-vignettes --timings CAGEfightR_1.27.0.tar.gz StartedAt: 2025-02-09 18:22:50 -0500 (Sun, 09 Feb 2025) EndedAt: 2025-02-09 18:25:20 -0500 (Sun, 09 Feb 2025) EllapsedTime: 149.7 seconds RetCode: 0 Status: OK CheckDir: CAGEfightR.Rcheck Warnings: 0