Package: CAGEfightR Version: 1.27.0 Command: /Library/Frameworks/R.framework/Resources/bin/R CMD check --install=check:CAGEfightR.install-out.txt --library=/Library/Frameworks/R.framework/Resources/library --no-vignettes --timings CAGEfightR_1.27.0.tar.gz StartedAt: 2025-02-09 19:32:45 -0500 (Sun, 09 Feb 2025) EndedAt: 2025-02-09 19:40:13 -0500 (Sun, 09 Feb 2025) EllapsedTime: 448.5 seconds RetCode: 0 Status: OK CheckDir: CAGEfightR.Rcheck Warnings: 0