Package: CAGEfightR Version: 1.27.0 Command: /Library/Frameworks/R.framework/Resources/bin/R CMD INSTALL CAGEfightR StartedAt: 2025-02-09 15:30:16 -0500 (Sun, 09 Feb 2025) EndedAt: 2025-02-09 15:31:25 -0500 (Sun, 09 Feb 2025) EllapsedTime: 68.6 seconds RetCode: 0 Status: OK