Package: CAGEfightR Version: 1.27.0 Command: /home/biocbuild/bbs-3.21-bioc/R/bin/R CMD INSTALL CAGEfightR StartedAt: 2025-02-04 15:54:54 -0500 (Tue, 04 Feb 2025) EndedAt: 2025-02-04 15:55:44 -0500 (Tue, 04 Feb 2025) EllapsedTime: 50.0 seconds RetCode: 0 Status: OK