Package: CAGEfightR Version: 1.27.0 Command: rm -rf CAGEfightR.buildbin-libdir && mkdir CAGEfightR.buildbin-libdir && E:\biocbuild\bbs-3.21-bioc\R\bin\R.exe CMD INSTALL --build --library=CAGEfightR.buildbin-libdir CAGEfightR_1.27.0.tar.gz StartedAt: 2025-02-10 07:22:10 -0500 (Mon, 10 Feb 2025) EndedAt: 2025-02-10 07:24:17 -0500 (Mon, 10 Feb 2025) EllapsedTime: 127.0 seconds RetCode: 0 Status: OK PackageFile: CAGEfightR_1.27.0.zip PackageFileSize: 2.494 MiB