Package: CAGEfightR Version: 1.27.0 Command: chmod a+r CAGEfightR -R && E:\biocbuild\bbs-3.21-bioc\R\bin\R.exe CMD build --keep-empty-dirs --no-resave-data CAGEfightR StartedAt: 2025-02-12 17:40:11 -0500 (Wed, 12 Feb 2025) EndedAt: 2025-02-12 17:46:45 -0500 (Wed, 12 Feb 2025) EllapsedTime: 393.3 seconds RetCode: 0 Status: OK PackageFile: CAGEfightR_1.27.0.tar.gz PackageFileSize: 1.568 MiB