Package: CAGEfightR Version: 1.27.0 Command: E:\biocbuild\bbs-3.21-bioc\R\bin\R.exe CMD check --no-multiarch --install=check:CAGEfightR.install-out.txt --library=E:\biocbuild\bbs-3.21-bioc\R\library --no-vignettes --timings CAGEfightR_1.27.0.tar.gz StartedAt: 2025-02-09 23:19:09 -0500 (Sun, 09 Feb 2025) EndedAt: 2025-02-09 23:27:44 -0500 (Sun, 09 Feb 2025) EllapsedTime: 514.8 seconds RetCode: 0 Status: OK CheckDir: CAGEfightR.Rcheck Warnings: 0