Package: CAGEr Version: 2.13.0 Command: rm -rf CAGEr.buildbin-libdir && mkdir CAGEr.buildbin-libdir && /Users/biocbuild/BBS/utils/build-universal.sh CAGEr_2.13.0.tar.gz /Library/Frameworks/R.framework/Resources/bin/R CAGEr.buildbin-libdir StartedAt: 2025-02-09 22:08:15 -0500 (Sun, 09 Feb 2025) EndedAt: 2025-02-09 22:08:42 -0500 (Sun, 09 Feb 2025) EllapsedTime: 27.5 seconds RetCode: 0 Status: OK PackageFile: CAGEr_2.13.0.tgz PackageFileSize: 2.973 MiB