Package: CAGEr Version: 2.13.0 Command: /home/biocbuild/R/R/bin/R CMD build --keep-empty-dirs --no-resave-data CAGEr StartedAt: 2025-01-28 21:32:17 -0000 (Tue, 28 Jan 2025) EndedAt: 2025-01-28 21:37:00 -0000 (Tue, 28 Jan 2025) EllapsedTime: 283.1 seconds RetCode: 0 Status: OK PackageFile: CAGEr_2.13.0.tar.gz PackageFileSize: 1.689 MiB