Package: CAGEr Version: 2.13.0 Command: rm -rf CAGEr.buildbin-libdir && mkdir CAGEr.buildbin-libdir && /Users/biocbuild/BBS/utils/build-universal.sh CAGEr_2.13.0.tar.gz /Library/Frameworks/R.framework/Resources/bin/R CAGEr.buildbin-libdir StartedAt: 2025-02-10 00:44:59 -0500 (Mon, 10 Feb 2025) EndedAt: 2025-02-10 00:46:31 -0500 (Mon, 10 Feb 2025) EllapsedTime: 92.3 seconds RetCode: 0 Status: OK PackageFile: CAGEr_2.13.0.tgz PackageFileSize: 3.049 MiB