Package: CAGEr Version: 2.13.0 Command: /Library/Frameworks/R.framework/Resources/bin/R CMD INSTALL CAGEr StartedAt: 2025-02-12 15:31:11 -0500 (Wed, 12 Feb 2025) EndedAt: 2025-02-12 15:32:35 -0500 (Wed, 12 Feb 2025) EllapsedTime: 84.5 seconds RetCode: 0 Status: OK