Package: CAGEr Version: 2.13.0 Command: /home/biocbuild/bbs-3.21-bioc/R/bin/R CMD build --keep-empty-dirs --no-resave-data CAGEr StartedAt: 2025-02-09 16:30:30 -0500 (Sun, 09 Feb 2025) EndedAt: 2025-02-09 16:33:50 -0500 (Sun, 09 Feb 2025) EllapsedTime: 200.2 seconds RetCode: 0 Status: OK PackageFile: CAGEr_2.13.0.tar.gz PackageFileSize: 1.944 MiB