Package: CAGEr Version: 2.13.0 Command: /home/biocbuild/bbs-3.21-bioc/R/bin/R CMD INSTALL CAGEr StartedAt: 2025-02-09 15:57:48 -0500 (Sun, 09 Feb 2025) EndedAt: 2025-02-09 15:58:52 -0500 (Sun, 09 Feb 2025) EllapsedTime: 63.8 seconds RetCode: 0 Status: OK