Package: CAGEr Version: 2.13.0 Command: E:\biocbuild\bbs-3.21-bioc\R\bin\R.exe CMD check --no-multiarch --install=check:CAGEr.install-out.txt --library=E:\biocbuild\bbs-3.21-bioc\R\library --no-vignettes --timings CAGEr_2.13.0.tar.gz StartedAt: 2025-02-09 23:19:43 -0500 (Sun, 09 Feb 2025) EndedAt: 2025-02-09 23:32:05 -0500 (Sun, 09 Feb 2025) EllapsedTime: 742.9 seconds RetCode: 0 Status: OK CheckDir: CAGEr.Rcheck Warnings: 0