Package: CATALYST Version: 1.31.2 Command: /Library/Frameworks/R.framework/Resources/bin/R CMD build --keep-empty-dirs --no-resave-data CATALYST StartedAt: 2025-02-09 16:10:20 -0500 (Sun, 09 Feb 2025) EndedAt: 2025-02-09 16:13:10 -0500 (Sun, 09 Feb 2025) EllapsedTime: 170.2 seconds RetCode: 0 Status: OK PackageFile: CATALYST_1.31.2.tar.gz PackageFileSize: 12.02 MiB