Package: CATALYST Version: 1.31.2 Command: /Library/Frameworks/R.framework/Resources/bin/R CMD check --install=check:CATALYST.install-out.txt --library=/Library/Frameworks/R.framework/Resources/library --no-vignettes --timings CATALYST_1.31.2.tar.gz StartedAt: 2025-02-09 19:34:58 -0500 (Sun, 09 Feb 2025) EndedAt: 2025-02-09 19:46:31 -0500 (Sun, 09 Feb 2025) EllapsedTime: 693.2 seconds RetCode: 0 Status: OK CheckDir: CATALYST.Rcheck Warnings: 0