Package: CATALYST Version: 1.31.2 Command: /home/biocbuild/bbs-3.21-bioc/R/bin/R CMD build --keep-empty-dirs --no-resave-data CATALYST StartedAt: 2025-02-09 16:31:47 -0500 (Sun, 09 Feb 2025) EndedAt: 2025-02-09 16:34:36 -0500 (Sun, 09 Feb 2025) EllapsedTime: 169.2 seconds RetCode: 0 Status: OK PackageFile: CATALYST_1.31.2.tar.gz PackageFileSize: 11.25 MiB