Package: CATALYST Version: 1.31.2 Command: rm -rf CATALYST.buildbin-libdir && mkdir CATALYST.buildbin-libdir && E:\biocbuild\bbs-3.21-bioc\R\bin\R.exe CMD INSTALL --build --library=CATALYST.buildbin-libdir CATALYST_1.31.2.tar.gz StartedAt: 2025-02-10 07:22:56 -0500 (Mon, 10 Feb 2025) EndedAt: 2025-02-10 07:24:18 -0500 (Mon, 10 Feb 2025) EllapsedTime: 82.4 seconds RetCode: 0 Status: OK PackageFile: CATALYST_1.31.2.zip PackageFileSize: 7.462 MiB