Package: CATALYST Version: 1.31.2 Command: chmod a+r CATALYST -R && E:\biocbuild\bbs-3.21-bioc\R\bin\R.exe CMD build --keep-empty-dirs --no-resave-data CATALYST StartedAt: 2025-02-09 17:40:03 -0500 (Sun, 09 Feb 2025) EndedAt: 2025-02-09 17:48:18 -0500 (Sun, 09 Feb 2025) EllapsedTime: 495.3 seconds RetCode: 0 Status: OK PackageFile: CATALYST_1.31.2.tar.gz PackageFileSize: 6.755 MiB