Package: CATALYST Version: 1.31.2 Command: E:\biocbuild\bbs-3.21-bioc\R\bin\R.exe CMD check --no-multiarch --install=check:CATALYST.install-out.txt --library=E:\biocbuild\bbs-3.21-bioc\R\library --no-vignettes --timings CATALYST_1.31.2.tar.gz StartedAt: 2025-02-12 23:30:47 -0500 (Wed, 12 Feb 2025) EndedAt: 2025-02-12 23:42:43 -0500 (Wed, 12 Feb 2025) EllapsedTime: 715.8 seconds RetCode: 0 Status: OK CheckDir: CATALYST.Rcheck Warnings: 0