Package: CBEA Version: 1.7.1 Maintainer: Quang Nguyen MaintainerEmail: quangpmnguyen at gmail.com git_url: https://git.bioconductor.org/packages/CBEA git_branch: devel git_last_commit: 9c7dd88 git_last_commit_date: 2025-01-24 13:50:14 -0500 (Fri, 24 Jan 2025)