Package: CBEA Version: 1.7.1 Command: /home/biocbuild/R/R/bin/R CMD INSTALL CBEA StartedAt: 2025-01-29 20:17:32 -0000 (Wed, 29 Jan 2025) EndedAt: 2025-01-29 20:18:30 -0000 (Wed, 29 Jan 2025) EllapsedTime: 57.7 seconds RetCode: 0 Status: OK